Workbook

Sheet MENU
B2: TANZANIA MAINLAND : SUPPLY AND USE TABLES, 2019
B4: Click selection below to navigate - Click yellow Menu indicator to return here.
C6: SUPPLY AND USE TABLES (Product X Industry) (67 X 67)
B7: 1 | C7: Table 1. Supply table, 2019 (at basic prices, including a transformation into purchasers' prices)
B8: 2 | C8: Table 2. Use table, 2019 (at purchasers' prices)
B9: 3 | C9: Table 3. Trade margins, 2019
B10: 4 | C10: Table 4. Transportation margins, 2019
B11: 5 | C11: Table 5. Taxes less subsidies on products, 2019
B12: 6 | C12: Table 6. Use table, 2019 (at basic prices)
B13: 7 | C13: Table 7. Use table for imports, 2019 (at c.i.f. values)
B14: 8 | C14: Table 8. Use table for domestic production, 2019 (at basic prices)
C16: GDP by Approaches
B17: 9 | C17: Table 9. Gross Domestic Product (GDP), 2019

Sheet P1 sup 
A1: MENU
C3: Table 1: Supply table, 2019 (at basic prices, including a transformation into purchasers' prices)
CB4: (Million Tsh)
E5: OUTPUT OF INDUSTRIES (ISIC REV.4) | BT5: Domestic Supply at basic prices | BU5: Imports, cif | BV5: Cif/fob Adjustment | BW5: Total imports, cif | BX5: Total supply at basic prices | BY5: VALUATION | CB5: Total supply at purchasers' prices
D6: INDUSTRIES (ISIC Rev.4) | E6: Crop and animal production, hunting and related service activities | F6: Forestry and logging | G6: Fishing and aquaculture | H6: Mining of coal and lignite | I6: Extraction of crude petroleum and natural gas | J6: Mining of metal ores | K6: Other mining and quarrying | L6: Manufacture of food products | M6: Manufacture of beverages | N6: Manufacture of tobacco products | O6: Manufacture of textiles | P6: Manufacture of wearing apparel | Q6: Manufacture of leather and related products | R6: Manufacture of wood and of products of wood and cork | S6: Manufacture of paper and paper products | T6: Printing and reproduction of recorded media | U6: Manufacture of coke and refined petroleum products | V6: Manufacture of chemicals and chemical products | W6: Manufacture of basic pharmaceutical products | X6: Manufacture of rubber and plastics products | Y6: Manufacture of other non-metallic mineral products | Z6: Manufacture of basic metals | AA6: Manufacture of fabricated metal products, except mach.&equip. | AB6: Manufacture of computer electronic and optical products | AC6: Manufacture of electrical equipment | AD6: Manufacture of machinery and equipment n.e.c. | AE6: Manufacture of motor vehicles, trailers and semi-trailers | AF6: Manufacture of other transport equipment | AG6: Manufacture of furniture | AH6: Other manufacturing n.e.c. | AI6: Repair and installation services of machinery and equipment | AJ6: Electricity, gas, steam and air conditioning | AK6: Natural water; water treatment and supply services | AL6: Sewerage services; waste collection, treatment and disposal services | AM6: Construction | AN6: Wholesale and retail trade, and repair services of motor vehicles and motorcycles | AO6: Wholesale trade services, except of motor vehicles and motorcycles | AP6: Retail trade services, except of motor vehicles and motorcycles | AQ6: Land transport and transport via pipelines | AR6: Water transport | AS6: Air transport | AT6: Warehousing and support activities for transportation | AU6: Postal and courier activities | AV6: Accommodation services | AW6: Food and beverage serving services | AX6: Publishing services | AY6: Motion picture, video and television programme production services, sound recording and music publishing | AZ6: Programming and broadcasting services | BA6: Telecommunications | BB6: Computer programming, data proccessing and information services | BC6: Financial services (including FISIM), except insurance and pension funding | BD6: Insurance, reinsurance and pension funding services, except compulsory social security | BE6: Services auxiliary to financial services and insurance services | BF6: Real estate services and imputed rents of owner-occupied dwellings | BG6: Professional, scientific, technical and veterinary services | BH6: Rental, leasing and employment services | BI6: Travel agency, tour operator and other reservation services and related services | BJ6: Other administartive and support services | BK6: Public administration and defence services; compulsory social security services | BL6: Education services | BM6: Human health services | BN6: Social work services | BO6: Arts, entertainment and recreation services | BP6: Services furnished by membership organisations | BQ6: Repair of computers and personal and household goods | BR6: Other personal services | BS6: Domestic services | BY6: Trade margins | BZ6: Transport margins | CA6: Taxes less subsidies on products
C7: Code | D7: PRODUCTS (CPA Rev.2) | E7: A01 | F7: A02 | G7: A03 | H7: B05 | I7: B06 | J7: B07 | K7: B08-B09 | L7: C10 | M7: C11 | N7: C12 | O7: C13 | P7: C14 | Q7: C15 | R7: C16 | S7: C17 | T7: C18 | U7: C19 | V7: C20 | W7: C21 | X7: C22 | Y7: C23 | Z7: C24 | AA7: C25 | AB7: C26 | AC7: C27 | AD7: C28 | AE7: C29 | AF7: C30 | AG7: C31 | AH7: C32 | AI7: C33 | AJ7: D35 | AK7: E36 | AL7: E37-E39 | AM7: F41-43 | AN7: G45 | AO7: G46 | AP7: G47 | AQ7: H49 | AR7: H50 | AS7: H51 | AT7: H52 | AU7: H53 | AV7: I55 | AW7: I56 | AX7: J58 | AY7: J59 | AZ7: J60 | BA7: J61 | BB7: J62 | BC7: K64 | BD7: K65 | BE7: K66 | BF7: L68 | BG7: M69-M75 | BH7: N77-N78 | BI7: N79 | BJ7: N80-N82 | BK7: O84 | BL7: P85 | BM7: Q86 | BN7: Q87-Q88 | BO7: R90-R93 | BP7: S94 | BQ7: S95 | BR7: S96 | BS7: T97 | BT7: Domsup | BU7: imp | BV7: ciffobadjust | BW7: totimp | BX7: Totsupbasic | BY7: trademarg | BZ7: transmarg | CA7: nettaxes | CB7: Totsuppurch
B8: No | E8: 01 | F8: 02 | G8: 03 | H8: 04 | I8: 05 | J8: 06 | K8: 07 | L8: 08 | M8: 09 | N8: 10 | O8: 11 | P8: 12 | Q8: 13 | R8: 14 | S8: 15 | T8: 16 | U8: 17 | V8: 18 | W8: 19 | X8: 20 | Y8: 21 | Z8: 22 | AA8: 23 | AB8: 24 | AC8: 25 | AD8: 26 | AE8: 27 | AF8: 28 | AG8: 29 | AH8: 30 | AI8: 31 | AJ8: 32 | AK8: 33 | AL8: 34 | AM8: 35 | AN8: 36 | AO8: 37 | AP8: 38 | AQ8: 39 | AR8: 40 | AS8: 41 | AT8: 42 | AU8: 43 | AV8: 44 | AW8: 45 | AX8: 46 | AY8: 47 | AZ8: 48 | BA8: 49 | BB8: 50 | BC8: 51 | BD8: 52 | BE8: 53 | BF8: 54 | BG8: 55 | BH8: 56 | BI8: 57 | BJ8: 58 | BK8: 59 | BL8: 60 | BM8: 61 | BN8: 62 | BO8: 63 | BP8: 64 | BQ8: 65 | BR8: 66 | BS8: 67 | BT8: 68 | BU8: 69 | BV8: 70 | BW8: 71 | BX8: 72 | BY8: 73 | BZ8: 74 | CA8: 75 | CB8: 76
B9: 01 | C9: A01 | D9: Products of agriculture, hunting and related services | E9: 34227760 | F9: 0 | G9: 0 | H9: 0 | I9: 0 | J9: 0 | K9: 0 | L9: 1380.5476 | M9: 0 | N9: 0 | O9: 0 | P9: 0 | Q9: 0 | R9: 0 | S9: 0 | T9: 0 | U9: 0 | V9: 0 | W9: 0 | X9: 0 | Y9: 0 | Z9: 0 | AA9: 0 | AB9: 0 | AC9: 0 | AD9: 0 | AE9: 0 | AF9: 0 | AG9: 0 | AH9: 0 | AI9: 0 | AJ9: 0 | AK9: 0 | AL9: 0 | AM9: 0 | AN9: 0 | AO9: 0 | AP9: 0 | AQ9: 0 | AR9: 0 | AS9: 0 | AT9: 0 | AU9: 0 | AV9: 0 | AW9: 0 | AX9: 0 | AY9: 0 | AZ9: 0 | BA9: 0 | BB9: 0 | BC9: 0 | BD9: 0 | BE9: 0 | BF9: 0 | BG9: 0 | BH9: 0 | BI9: 0 | BJ9: 14306.926 | BK9: 0 | BL9: 0 | BM9: 0 | BN9: 0 | BO9: 0 | BP9: 0 | BQ9: 0 | BR9: 0 | BS9: 0 | BT9: 34243447 | BU9: 652830.73 | BV9: 0 | BW9: 652830.73 | BX9: 34896278 | BY9: 3950954.3 | BZ9: 651428.02 | CA9: 411440.04 | CB9: 39910100
B10: 02 | C10: A02 | D10: Products of forestry, logging and related services | E10: 0 | F10: 4583692 | G10: 0 | H10: 0 | I10: 0 | J10: 0 | K10: 0 | L10: 0 | M10: 0 | N10: 0 | O10: 0 | P10: 0 | Q10: 0 | R10: 0 | S10: 0 | T10: 0 | U10: 0 | V10: 0 | W10: 0 | X10: 0 | Y10: 0 | Z10: 0 | AA10: 0 | AB10: 0 | AC10: 0 | AD10: 0 | AE10: 0 | AF10: 0 | AG10: 0 | AH10: 0 | AI10: 0 | AJ10: 0 | AK10: 0 | AL10: 0 | AM10: 0 | AN10: 0 | AO10: 0 | AP10: 0 | AQ10: 0 | AR10: 0 | AS10: 0 | AT10: 0 | AU10: 0 | AV10: 0 | AW10: 0 | AX10: 0 | AY10: 0 | AZ10: 0 | BA10: 0 | BB10: 0 | BC10: 0 | BD10: 0 | BE10: 0 | BF10: 0 | BG10: 0 | BH10: 0 | BI10: 0 | BJ10: 0 | BK10: 0 | BL10: 0 | BM10: 0 | BN10: 0 | BO10: 0 | BP10: 0 | BQ10: 0 | BR10: 0 | BS10: 0 | BT10: 4583692 | BU10: 1368.931 | BV10: 0 | BW10: 1368.931 | BX10: 4585060.9 | BY10: 596041.08 | BZ10: 104029.53 | CA10: 72251.382 | CB10: 5357382.9
B11: 03 | C11: A03 | D11: Fish and other fishing products; aquaculture products; support services to fishing | E11: 0 | F11: 0 | G11: 2409453.4 | H11: 0 | I11: 0 | J11: 0 | K11: 0 | L11: 0 | M11: 0 | N11: 0 | O11: 0 | P11: 0 | Q11: 0 | R11: 0 | S11: 0 | T11: 0 | U11: 0 | V11: 0 | W11: 0 | X11: 0 | Y11: 0 | Z11: 0 | AA11: 0 | AB11: 0 | AC11: 0 | AD11: 0 | AE11: 0 | AF11: 0 | AG11: 0 | AH11: 0 | AI11: 0 | AJ11: 0 | AK11: 0 | AL11: 0 | AM11: 0 | AN11: 0 | AO11: 0 | AP11: 0 | AQ11: 0 | AR11: 0 | AS11: 0 | AT11: 0 | AU11: 0 | AV11: 0 | AW11: 0 | AX11: 0 | AY11: 0 | AZ11: 0 | BA11: 0 | BB11: 0 | BC11: 0 | BD11: 0 | BE11: 0 | BF11: 0 | BG11: 0 | BH11: 0 | BI11: 0 | BJ11: 0 | BK11: 0 | BL11: 0 | BM11: 0 | BN11: 0 | BO11: 0 | BP11: 0 | BQ11: 0 | BR11: 0 | BS11: 0 | BT11: 2409453.4 | BU11: 78.742028 | BV11: 0 | BW11: 78.742028 | BX11: 2409532.1 | BY11: 362165.05 | BZ11: 62313.443 | CA11: 139959.82 | CB11: 2973970.5
B12: 04 | C12: B05 | D12: Coal and lignite | E12: 0 | F12: 0 | G12: 0 | H12: 157425.84 | I12: 0 | J12: 0 | K12: 0 | L12: 0 | M12: 0 | N12: 0 | O12: 0 | P12: 0 | Q12: 0 | R12: 0 | S12: 0 | T12: 0 | U12: 0 | V12: 0 | W12: 0 | X12: 0 | Y12: 0 | Z12: 0 | AA12: 0 | AB12: 0 | AC12: 0 | AD12: 0 | AE12: 0 | AF12: 0 | AG12: 0 | AH12: 0 | AI12: 0 | AJ12: 0 | AK12: 0 | AL12: 0 | AM12: 0 | AN12: 0 | AO12: 0 | AP12: 0 | AQ12: 0 | AR12: 0 | AS12: 0 | AT12: 0 | AU12: 0 | AV12: 0 | AW12: 0 | AX12: 0 | AY12: 0 | AZ12: 0 | BA12: 0 | BB12: 0 | BC12: 0 | BD12: 0 | BE12: 0 | BF12: 0 | BG12: 0 | BH12: 0 | BI12: 0 | BJ12: 0 | BK12: 0 | BL12: 0 | BM12: 0 | BN12: 0 | BO12: 0 | BP12: 0 | BQ12: 0 | BR12: 0 | BS12: 0 | BT12: 157425.84 | BU12: 139.65028 | BV12: 0 | BW12: 139.65028 | BX12: 157565.49 | BY12: 21541.654 | BZ12: 4072.6789 | CA12: 19.913615 | CB12: 183199.74
B13: 05 | C13: B06 | D13: Crude petroleum and natural gas | E13: 0 | F13: 0 | G13: 0 | H13: 0 | I13: 442253.94 | J13: 0 | K13: 0 | L13: 0 | M13: 0 | N13: 0 | O13: 0 | P13: 0 | Q13: 0 | R13: 0 | S13: 0 | T13: 0 | U13: 0 | V13: 0 | W13: 0 | X13: 0 | Y13: 0 | Z13: 0 | AA13: 0 | AB13: 0 | AC13: 0 | AD13: 0 | AE13: 0 | AF13: 0 | AG13: 0 | AH13: 0 | AI13: 0 | AJ13: 0 | AK13: 0 | AL13: 0 | AM13: 0 | AN13: 0 | AO13: 0 | AP13: 0 | AQ13: 0 | AR13: 0 | AS13: 0 | AT13: 0 | AU13: 0 | AV13: 0 | AW13: 0 | AX13: 0 | AY13: 0 | AZ13: 0 | BA13: 0 | BB13: 0 | BC13: 0 | BD13: 0 | BE13: 0 | BF13: 0 | BG13: 0 | BH13: 0 | BI13: 0 | BJ13: 0 | BK13: 0 | BL13: 0 | BM13: 0 | BN13: 0 | BO13: 0 | BP13: 0 | BQ13: 0 | BR13: 0 | BS13: 0 | BT13: 442253.94 | BU13: 3.8800296 | BV13: 0 | BW13: 3.8800296 | BX13: 442257.82 | BY13: 29045.093 | BZ13: 8712.3877 | CA13: 16042.984 | CB13: 496058.28
B14: 06 | C14: B07 | D14: Metal ores | E14: 0 | F14: 0 | G14: 0 | H14: 0 | I14: 0 | J14: 7025326.7 | K14: 381231.45 | L14: 0 | M14: 0 | N14: 0 | O14: 0 | P14: 0 | Q14: 0 | R14: 0 | S14: 0 | T14: 0 | U14: 0 | V14: 0 | W14: 0 | X14: 0 | Y14: 0 | Z14: 0 | AA14: 0 | AB14: 0 | AC14: 0 | AD14: 0 | AE14: 0 | AF14: 0 | AG14: 0 | AH14: 0 | AI14: 0 | AJ14: 0 | AK14: 0 | AL14: 0 | AM14: 0 | AN14: 0 | AO14: 0 | AP14: 0 | AQ14: 0 | AR14: 0 | AS14: 0 | AT14: 0 | AU14: 0 | AV14: 0 | AW14: 0 | AX14: 0 | AY14: 0 | AZ14: 0 | BA14: 0 | BB14: 0 | BC14: 0 | BD14: 0 | BE14: 0 | BF14: 0 | BG14: 0 | BH14: 0 | BI14: 0 | BJ14: 0 | BK14: 0 | BL14: 0 | BM14: 0 | BN14: 0 | BO14: 0 | BP14: 0 | BQ14: 0 | BR14: 0 | BS14: 0 | BT14: 7406558.2 | BU14: 1963.8609 | BV14: 0 | BW14: 1963.8609 | BX14: 7408522 | BY14: 753829.09 | BZ14: 128857.68 | CA14: 37.11553 | CB14: 8291245.9
B15: 07 | C15: B08-B09 | D15: Other mining and quarrying products | E15: 0 | F15: 0 | G15: 0 | H15: 0 | I15: 0 | J15: 115742.28 | K15: 1705807.3 | L15: 0 | M15: 0 | N15: 0 | O15: 0 | P15: 0 | Q15: 0 | R15: 0 | S15: 0 | T15: 0 | U15: 0 | V15: 0 | W15: 0 | X15: 0 | Y15: 0 | Z15: 0 | AA15: 0 | AB15: 0 | AC15: 0 | AD15: 0 | AE15: 0 | AF15: 0 | AG15: 0 | AH15: 0 | AI15: 0 | AJ15: 0 | AK15: 0 | AL15: 0 | AM15: 242452.69 | AN15: 0 | AO15: 0 | AP15: 0 | AQ15: 0 | AR15: 0 | AS15: 0 | AT15: 0 | AU15: 0 | AV15: 0 | AW15: 0 | AX15: 0 | AY15: 0 | AZ15: 0 | BA15: 0 | BB15: 0 | BC15: 0 | BD15: 0 | BE15: 0 | BF15: 0 | BG15: 0 | BH15: 0 | BI15: 0 | BJ15: 0 | BK15: 0 | BL15: 0 | BM15: 0 | BN15: 0 | BO15: 0 | BP15: 0 | BQ15: 0 | BR15: 0 | BS15: 0 | BT15: 2064002.3 | BU15: 47970.991 | BV15: 0 | BW15: 47970.991 | BX15: 2111973.3 | BY15: 270136.48 | BZ15: 45162.922 | CA15: 4422.2985 | CB15: 2431695
B16: 08 | C16: C10 | D16: Manufacture of food products | E16: 2076.2177 | F16: 0 | G16: 515942.38 | H16: 0 | I16: 0 | J16: 0 | K16: 0 | L16: 10876716 | M16: 0 | N16: 0 | O16: 0 | P16: 0 | Q16: 0 | R16: 0 | S16: 0 | T16: 0 | U16: 0 | V16: 294881.34 | W16: 0 | X16: 0 | Y16: 0 | Z16: 0 | AA16: 0 | AB16: 0 | AC16: 0 | AD16: 0 | AE16: 0 | AF16: 0 | AG16: 0 | AH16: 0 | AI16: 0 | AJ16: 0 | AK16: 0 | AL16: 0 | AM16: 0 | AN16: 0 | AO16: 0 | AP16: 0 | AQ16: 0 | AR16: 0 | AS16: 0 | AT16: 0 | AU16: 0 | AV16: 0 | AW16: 0 | AX16: 0 | AY16: 0 | AZ16: 0 | BA16: 0 | BB16: 0 | BC16: 0 | BD16: 0 | BE16: 0 | BF16: 0 | BG16: 0 | BH16: 0 | BI16: 0 | BJ16: 0 | BK16: 0 | BL16: 0 | BM16: 0 | BN16: 0 | BO16: 0 | BP16: 0 | BQ16: 0 | BR16: 0 | BS16: 0 | BT16: 11689616 | BU16: 845879.01 | BV16: 0 | BW16: 845879.01 | BX16: 12535495 | BY16: 2028898.1 | BZ16: 352353.24 | CA16: 1510551.1 | CB16: 16427298
B17: 09 | C17: C11 | D17: Manufacture of beverages | E17: 0 | F17: 0 | G17: 0 | H17: 0 | I17: 0 | J17: 0 | K17: 0 | L17: 0 | M17: 3592657.5 | N17: 0 | O17: 0 | P17: 0 | Q17: 0 | R17: 0 | S17: 0 | T17: 0 | U17: 0 | V17: 0 | W17: 0 | X17: 0 | Y17: 0 | Z17: 0 | AA17: 0 | AB17: 0 | AC17: 0 | AD17: 0 | AE17: 0 | AF17: 0 | AG17: 0 | AH17: 0 | AI17: 0 | AJ17: 0 | AK17: 0 | AL17: 0 | AM17: 0 | AN17: 0 | AO17: 0 | AP17: 0 | AQ17: 0 | AR17: 0 | AS17: 0 | AT17: 0 | AU17: 0 | AV17: 0 | AW17: 0 | AX17: 0 | AY17: 0 | AZ17: 0 | BA17: 0 | BB17: 0 | BC17: 0 | BD17: 0 | BE17: 0 | BF17: 0 | BG17: 0 | BH17: 0 | BI17: 0 | BJ17: 0 | BK17: 0 | BL17: 0 | BM17: 0 | BN17: 0 | BO17: 0 | BP17: 0 | BQ17: 0 | BR17: 0 | BS17: 0 | BT17: 3592657.5 | BU17: 133862.08 | BV17: 0 | BW17: 133862.08 | BX17: 3726519.5 | BY17: 901869.29 | BZ17: 144227.52 | CA17: 1100993.2 | CB17: 5873609.5
B18: 10 | C18: C12 | D18: Manufacture of tobacco products | E18: 0 | F18: 0 | G18: 0 | H18: 0 | I18: 0 | J18: 0 | K18: 0 | L18: 0 | M18: 0 | N18: 753513.41 | O18: 0 | P18: 0 | Q18: 0 | R18: 0 | S18: 0 | T18: 0 | U18: 0 | V18: 0 | W18: 0 | X18: 0 | Y18: 0 | Z18: 0 | AA18: 0 | AB18: 0 | AC18: 0 | AD18: 0 | AE18: 0 | AF18: 0 | AG18: 0 | AH18: 0 | AI18: 0 | AJ18: 0 | AK18: 0 | AL18: 0 | AM18: 0 | AN18: 0 | AO18: 0 | AP18: 0 | AQ18: 0 | AR18: 0 | AS18: 0 | AT18: 0 | AU18: 0 | AV18: 0 | AW18: 0 | AX18: 0 | AY18: 0 | AZ18: 0 | BA18: 0 | BB18: 0 | BC18: 0 | BD18: 0 | BE18: 0 | BF18: 0 | BG18: 0 | BH18: 0 | BI18: 0 | BJ18: 0 | BK18: 0 | BL18: 0 | BM18: 0 | BN18: 0 | BO18: 0 | BP18: 0 | BQ18: 0 | BR18: 0 | BS18: 0 | BT18: 753513.41 | BU18: 7750.2917 | BV18: 0 | BW18: 7750.2917 | BX18: 761263.7 | BY18: 140389.24 | BZ18: 24386.864 | CA18: 263355.19 | CB18: 1189395
B19: 11 | C19: C13 | D19: Manufacture of textiles | E19: 0 | F19: 0 | G19: 0 | H19: 0 | I19: 0 | J19: 0 | K19: 0 | L19: 0 | M19: 0 | N19: 0 | O19: 655542.78 | P19: 334125.36 | Q19: 0 | R19: 0 | S19: 0 | T19: 0 | U19: 0 | V19: 0 | W19: 0 | X19: 0 | Y19: 0 | Z19: 0 | AA19: 0 | AB19: 0 | AC19: 0 | AD19: 0 | AE19: 0 | AF19: 0 | AG19: 0 | AH19: 0 | AI19: 0 | AJ19: 0 | AK19: 0 | AL19: 0 | AM19: 0 | AN19: 0 | AO19: 0 | AP19: 0 | AQ19: 0 | AR19: 0 | AS19: 0 | AT19: 0 | AU19: 0 | AV19: 0 | AW19: 0 | AX19: 0 | AY19: 0 | AZ19: 0 | BA19: 0 | BB19: 0 | BC19: 0 | BD19: 0 | BE19: 0 | BF19: 0 | BG19: 0 | BH19: 0 | BI19: 0 | BJ19: 0 | BK19: 0 | BL19: 0 | BM19: 0 | BN19: 0 | BO19: 0 | BP19: 0 | BQ19: 0 | BR19: 0 | BS19: 0 | BT19: 989668.14 | BU19: 332413.76 | BV19: 0 | BW19: 332413.76 | BX19: 1322081.9 | BY19: 261879.39 | BZ19: 45996.685 | CA19: 108172.1 | CB19: 1738130.1
B20: 12 | C20: C14 | D20: Manufacture of wearing apparel | E20: 0 | F20: 0 | G20: 0 | H20: 0 | I20: 0 | J20: 0 | K20: 0 | L20: 0 | M20: 0 | N20: 0 | O20: 0 | P20: 1319722.4 | Q20: 0 | R20: 0 | S20: 0 | T20: 0 | U20: 0 | V20: 0 | W20: 0 | X20: 0 | Y20: 0 | Z20: 0 | AA20: 0 | AB20: 0 | AC20: 0 | AD20: 0 | AE20: 0 | AF20: 0 | AG20: 0 | AH20: 0 | AI20: 0 | AJ20: 0 | AK20: 0 | AL20: 0 | AM20: 0 | AN20: 0 | AO20: 0 | AP20: 0 | AQ20: 0 | AR20: 0 | AS20: 0 | AT20: 0 | AU20: 0 | AV20: 0 | AW20: 0 | AX20: 0 | AY20: 0 | AZ20: 0 | BA20: 0 | BB20: 0 | BC20: 0 | BD20: 0 | BE20: 0 | BF20: 0 | BG20: 0 | BH20: 0 | BI20: 0 | BJ20: 0 | BK20: 0 | BL20: 0 | BM20: 0 | BN20: 0 | BO20: 0 | BP20: 0 | BQ20: 0 | BR20: 0 | BS20: 0 | BT20: 1319722.4 | BU20: 370542.98 | BV20: 0 | BW20: 370542.98 | BX20: 1690265.3 | BY20: 383194.52 | BZ20: 72663.819 | CA20: 247930.82 | CB20: 2394054.5
... B75: 67 | C75: T97 | D75: Domestic services | E75: 0 | F75: 0 | G75: 0 | H75: 0 | I75: 0 | J75: 0 | K75: 0 | L75: 0 | M75: 0 | N75: 0 | O75: 0 | P75: 0 | Q75: 0 | R75: 0 | S75: 0 | T75: 0 | U75: 0 | V75: 0 | W75: 0 | X75: 0 | Y75: 0 | Z75: 0 | AA75: 0 | AB75: 0 | AC75: 0 | AD75: 0 | AE75: 0 | AF75: 0 | AG75: 0 | AH75: 0 | AI75: 0 | AJ75: 0 | AK75: 0 | AL75: 0 | AM75: 0 | AN75: 0 | AO75: 0 | AP75: 0 | AQ75: 0 | AR75: 0 | AS75: 0 | AT75: 0 | AU75: 0 | AV75: 0 | AW75: 0 | AX75: 0 | AY75: 0 | AZ75: 0 | BA75: 0 | BB75: 0 | BC75: 0 | BD75: 0 | BE75: 0 | BF75: 0 | BG75: 0 | BH75: 0 | BI75: 0 | BJ75: 0 | BK75: 0 | BL75: 0 | BM75: 0 | BN75: 0 | BO75: 0 | BP75: 0 | BQ75: 0 | BR75: 0 | BS75: 315779.91 | BT75: 315779.91 | BU75: 0 | BV75: 0 | BW75: 0 | BX75: 315779.91 | BY75: 0 | BZ75: 0 | CA75: 0 | CB75: 315779.91
B76: 68 | D76: Total | E76: 34884071 | F76: 4583692 | G76: 2925395.8 | H76: 157425.84 | I76: 442253.94 | J76: 7141069 | K76: 2087038.7 | L76: 10878097 | M76: 3592657.5 | N76: 753513.41 | O76: 655542.78 | P76: 1653847.7 | Q76: 330227 | R76: 362203.61 | S76: 243790.52 | T76: 574766.87 | U76: 196611.58 | V76: 2129163.2 | W76: 110773.42 | X76: 749721.52 | Y76: 1938375 | Z76: 1363429.4 | AA76: 896842.35 | AB76: 28581.883 | AC76: 309730.09 | AD76: 239402.9 | AE76: 137257.45 | AF76: 281679.31 | AG76: 1759296.5 | AH76: 1142669.8 | AI76: 1175231.5 | AJ76: 2024131.3 | AK76: 1027984.6 | AL76: 51365.141 | AM76: 43248444 | AN76: 2383473.4 | AO76: 6505867.4 | AP76: 9976397.6 | AQ76: 15888034 | AR76: 766641.13 | AS76: 549027.8 | AT76: 2899523.8 | AU76: 231564.06 | AV76: 3862027.4 | AW76: 4740429.6 | AX76: 97084.355 | AY76: 205734.57 | AZ76: 214514.33 | BA76: 2955679.1 | BB76: 383878.49 | BC76: 4401404.5 | BD76: 629781.51 | BE76: 1500031 | BF76: 4494939 | BG76: 989005.28 | BH76: 660043.04 | BI76: 1939962.9 | BJ76: 2749866.3 | BK76: 9476740.6 | BL76: 5186637.1 | BM76: 3370148.1 | BN76: 630778.5 | BO76: 665013.99 | BP76: 502071.5 | BQ76: 801915.09 | BR76: 1369484 | BS76: 315779.91 | BT76: 2.2141976e+08 | BU76: 23309877 | BV76: -1445494.1 | BW76: 21864383 | BX76: 2.4328415e+08 | BY76: 5.4315024e-09 | BZ76: 2.0691004e-10 | CA76: 10767426 | CB76: 2.5405157e+08
B77: 69 | D77: C.i.f./f.o.b. adjustments on imports | E77: 0 | F77: 0 | G77: 0 | H77: 0 | I77: 0 | J77: 0 | K77: 0 | L77: 0 | M77: 0 | N77: 0 | O77: 0 | P77: 0 | Q77: 0 | R77: 0 | S77: 0 | T77: 0 | U77: 0 | V77: 0 | W77: 0 | X77: 0 | Y77: 0 | Z77: 0 | AA77: 0 | AB77: 0 | AC77: 0 | AD77: 0 | AE77: 0 | AF77: 0 | AG77: 0 | AH77: 0 | AI77: 0 | AJ77: 0 | AK77: 0 | AL77: 0 | AM77: 0 | AN77: 0 | AO77: 0 | AP77: 0 | AQ77: 0 | AR77: 0 | AS77: 0 | AT77: 0 | AU77: 0 | AV77: 0 | AW77: 0 | AX77: 0 | AY77: 0 | AZ77: 0 | BA77: 0 | BB77: 0 | BC77: 0 | BD77: 0 | BE77: 0 | BF77: 0 | BG77: 0 | BH77: 0 | BI77: 0 | BJ77: 0 | BK77: 0 | BL77: 0 | BM77: 0 | BN77: 0 | BO77: 0 | BP77: 0 | BQ77: 0 | BR77: 0 | BS77: 0 | BT77: 0 | BU77: -1445494.1 | BV77: 1445494.1 | BW77: 0 | BX77: 0 | BY77: 0 | BZ77: 0 | CA77: 0 | CB77: 0
B78: 70 | D78: Direct purchases abroad by residents | E78: 0 | F78: 0 | G78: 0 | H78: 0 | I78: 0 | J78: 0 | K78: 0 | L78: 0 | M78: 0 | N78: 0 | O78: 0 | P78: 0 | Q78: 0 | R78: 0 | S78: 0 | T78: 0 | U78: 0 | V78: 0 | W78: 0 | X78: 0 | Y78: 0 | Z78: 0 | AA78: 0 | AB78: 0 | AC78: 0 | AD78: 0 | AE78: 0 | AF78: 0 | AG78: 0 | AH78: 0 | AI78: 0 | AJ78: 0 | AK78: 0 | AL78: 0 | AM78: 0 | AN78: 0 | AO78: 0 | AP78: 0 | AQ78: 0 | AR78: 0 | AS78: 0 | AT78: 0 | AU78: 0 | AV78: 0 | AW78: 0 | AX78: 0 | AY78: 0 | AZ78: 0 | BA78: 0 | BB78: 0 | BC78: 0 | BD78: 0 | BE78: 0 | BF78: 0 | BG78: 0 | BH78: 0 | BI78: 0 | BJ78: 0 | BK78: 0 | BL78: 0 | BM78: 0 | BN78: 0 | BO78: 0 | BP78: 0 | BQ78: 0 | BR78: 0 | BS78: 0 | BT78: 0 | BU78: 1392414.2 | BV78: 0 | BW78: 1392414.2 | BX78: 1392414.2 | BY78: 0 | BZ78: 0 | CA78: 0 | CB78: 1392414.2
B79: 71 | D79: Total output | E79: 34884071 | F79: 4583692 | G79: 2925395.8 | H79: 157425.84 | I79: 442253.94 | J79: 7141069 | K79: 2087038.7 | L79: 10878097 | M79: 3592657.5 | N79: 753513.41 | O79: 655542.78 | P79: 1653847.7 | Q79: 330227 | R79: 362203.61 | S79: 243790.52 | T79: 574766.87 | U79: 196611.58 | V79: 2129163.2 | W79: 110773.42 | X79: 749721.52 | Y79: 1938375 | Z79: 1363429.4 | AA79: 896842.35 | AB79: 28581.883 | AC79: 309730.09 | AD79: 239402.9 | AE79: 137257.45 | AF79: 281679.31 | AG79: 1759296.5 | AH79: 1142669.8 | AI79: 1175231.5 | AJ79: 2024131.3 | AK79: 1027984.6 | AL79: 51365.141 | AM79: 43248444 | AN79: 2383473.4 | AO79: 6505867.4 | AP79: 9976397.6 | AQ79: 15888034 | AR79: 766641.13 | AS79: 549027.8 | AT79: 2899523.8 | AU79: 231564.06 | AV79: 3862027.4 | AW79: 4740429.6 | AX79: 97084.355 | AY79: 205734.57 | AZ79: 214514.33 | BA79: 2955679.1 | BB79: 383878.49 | BC79: 4401404.5 | BD79: 629781.51 | BE79: 1500031 | BF79: 4494939 | BG79: 989005.28 | BH79: 660043.04 | BI79: 1939962.9 | BJ79: 2749866.3 | BK79: 9476740.6 | BL79: 5186637.1 | BM79: 3370148.1 | BN79: 630778.5 | BO79: 665013.99 | BP79: 502071.5 | BQ79: 801915.09 | BR79: 1369484 | BS79: 315779.91 | BT79: 2.2141976e+08 | BU79: 23256797 | BV79: 0 | BW79: 23256797 | BX79: 2.4467656e+08 | BY79: 5.4315024e-09 | BZ79: 2.0691004e-10 | CA79: 10767426 | CB79: 2.5544399e+08
B80: 72 | D80: Market output
B81: 73 | D81: For own final use output
B82: 74 | D82: Other non-market output

Sheet P2 use purch
A1: MENU
C3: Table 2: Use table, 2019 (at purchasers' prices)
CD4: (Million Tsh)
E5: INPUT OF INDUSTRIES (ISIC REV.4) | BT5: Total intermediate consumption | BU5: FINAL USES | CD5: Total use at purchasers' prices
D6: INDUSTRIES (ISIC Rev.4) | E6: Crop and animal production, hunting and related service activities | F6: Forestry and logging | G6: Fishing and aquaculture | H6: Mining of coal and lignite | I6: Extraction of crude petroleum and natural gas | J6: Mining of metal ores | K6: Other mining and quarrying | L6: Manufacture of food products | M6: Manufacture of beverages | N6: Manufacture of tobacco products | O6: Manufacture of textiles | P6: Manufacture of wearing apparel | Q6: Manufacture of leather and related products | R6: Manufacture of wood and of products of wood and cork | S6: Manufacture of paper and paper products | T6: Printing and reproduction of recorded media | U6: Manufacture of coke and refined petroleum products | V6: Manufacture of chemicals and chemical products | W6: Manufacture of basic pharmaceutical products | X6: Manufacture of rubber and plastics products | Y6: Manufacture of other non-metallic mineral products | Z6: Manufacture of basic metals | AA6: Manufacture of fabricated metal products, except mach.&equip. | AB6: Manufacture of computer electronic and optical products | AC6: Manufacture of electrical equipment | AD6: Manufacture of machinery and equipment n.e.c. | AE6: Manufacture of motor vehicles, trailers and semi-trailers | AF6: Manufacture of other transport equipment | AG6: Manufacture of furniture | AH6: Other manufacturing n.e.c. | AI6: Repair and installation services of machinery and equipment | AJ6: Electricity, gas, steam and air conditioning | AK6: Natural water; water treatment and supply services | AL6: Sewerage services; waste collection, treatment and disposal services | AM6: Construction | AN6: Wholesale and retail trade, and repair services of motor vehicles and motorcycles | AO6: Wholesale trade services, except of motor vehicles and motorcycles | AP6: Retail trade services, except of motor vehicles and motorcycles | AQ6: Land transport and transport via pipelines | AR6: Water transport | AS6: Air transport | AT6: Warehousing and support activities for transportation | AU6: Postal and courier activities | AV6: Accommodation services | AW6: Food and beverage serving services | AX6: Publishing services | AY6: Motion picture, video and television programme production services, sound recording and music publishing | AZ6: Programming and broadcasting services | BA6: Telecommunications | BB6: Computer programming, data proccessing and information services | BC6: Financial services (including FISIM), except insurance and pension funding | BD6: Insurance, reinsurance and pension funding services, except compulsory social security | BE6: Services auxiliary to financial services and insurance services | BF6: Real estate services and imputed rents of owner-occupied dwellings | BG6: Professional, scientific, technical and veterinary services | BH6: Rental, leasing and employment services | BI6: Travel agency, tour operator and other reservation services and related services | BJ6: Other administartive and support services | BK6: Public administration and defence services; compulsory social security services | BL6: Education services | BM6: Human health services | BN6: Social work services | BO6: Arts, entertainment and recreation services | BP6: Services furnished by membership organisations | BQ6: Repair of computers and personal and household goods | BR6: Other personal services | BS6: Domestic services | BU6: Final consumption expenditure by households | BV6: Final consumption expenditure by non-profit organisations serving households (NPISH) | BW6: Final consumption expenditure by government | BX6: Final consumption expenditure | BY6: Gross Fixed Capital Formation | BZ6: Changes in valuables | CA6: Changes in inventories | CB6: Exports | CC6: Final uses
C7: Code | D7: PRODUCTS (CPA Rev.2) | E7: A01 | F7: A02 | G7: A03 | H7: B05 | I7: B06 | J7: B07 | K7: B08-B09 | L7: C10 | M7: C11 | N7: C12 | O7: C13 | P7: C14 | Q7: C15 | R7: C16 | S7: C17 | T7: C18 | U7: C19 | V7: C20 | W7: C21 | X7: C22 | Y7: C23 | Z7: C24 | AA7: C25 | AB7: C26 | AC7: C27 | AD7: C28 | AE7: C29 | AF7: C30 | AG7: C31 | AH7: C32 | AI7: C33 | AJ7: D35 | AK7: E36 | AL7: E37-E39 | AM7: F41-43 | AN7: G45 | AO7: G46 | AP7: G47 | AQ7: H49 | AR7: H50 | AS7: H51 | AT7: H52 | AU7: H53 | AV7: I55 | AW7: I56 | AX7: J58 | AY7: J59 | AZ7: J60 | BA7: J61 | BB7: J62 | BC7: K64 | BD7: K65 | BE7: K66 | BF7: L68 | BG7: M69-M75 | BH7: N77-N78 | BI7: N79 | BJ7: N80-N82 | BK7: O84 | BL7: P85 | BM7: Q86 | BN7: Q87-Q88 | BO7: R90-R93 | BP7: S94 | BQ7: S95 | BR7: S96 | BS7: T97 | BU7: Hhcons | BV7: NPIHS | BW7: Govcons | BY7: GFCF | BZ7: Chval | CA7: Chinv | CB7: Exp
B8: No | E8: 01 | F8: 02 | G8: 03 | H8: 04 | I8: 05 | J8: 06 | K8: 07 | L8: 08 | M8: 09 | N8: 10 | O8: 11 | P8: 12 | Q8: 13 | R8: 14 | S8: 15 | T8: 16 | U8: 17 | V8: 18 | W8: 19 | X8: 20 | Y8: 21 | Z8: 22 | AA8: 23 | AB8: 24 | AC8: 25 | AD8: 26 | AE8: 27 | AF8: 28 | AG8: 29 | AH8: 30 | AI8: 31 | AJ8: 32 | AK8: 33 | AL8: 34 | AM8: 35 | AN8: 36 | AO8: 37 | AP8: 38 | AQ8: 39 | AR8: 40 | AS8: 41 | AT8: 42 | AU8: 43 | AV8: 44 | AW8: 45 | AX8: 46 | AY8: 47 | AZ8: 48 | BA8: 49 | BB8: 50 | BC8: 51 | BD8: 52 | BE8: 53 | BF8: 54 | BG8: 55 | BH8: 56 | BI8: 57 | BJ8: 58 | BK8: 59 | BL8: 60 | BM8: 61 | BN8: 62 | BO8: 63 | BP8: 64 | BQ8: 65 | BR8: 66 | BS8: 67 | BT8: 68 | BU8: 69 | BV8: 70 | BW8: 71 | BX8: 72 | BY8: 73 | BZ8: 74 | CA8: 75 | CB8: 76 | CC8: 77 | CD8: 78
B9: 01 | C9: A01 | D9: Products of agriculture, hunting and related services | E9: 2993554.6 | F9: 175.39052 | G9: 20.385396 | H9: 1.1503681 | I9: 0 | J9: 576.18262 | K9: 107.11978 | L9: 5481465.2 | M9: 584521.21 | N9: 301221.99 | O9: 429959.12 | P9: 75199.239 | Q9: 76074.052 | R9: 0 | S9: 901.68089 | T9: 903.58398 | U9: 0 | V9: 143595.9 | W9: 995.46419 | X9: 0 | Y9: 0 | Z9: 0 | AA9: 0 | AB9: 0 | AC9: 0 | AD9: 0 | AE9: 0 | AF9: 0 | AG9: 0 | AH9: 8597.4565 | AI9: 0 | AJ9: 0 | AK9: 0 | AL9: 0 | AM9: 22.228117 | AN9: 262.40971 | AO9: 684.53984 | AP9: 1127.4344 | AQ9: 534.44679 | AR9: 0 | AS9: 0 | AT9: 0 | AU9: 0 | AV9: 467803.76 | AW9: 868850.31 | AX9: 0 | AY9: 0 | AZ9: 0 | BA9: 275.49009 | BB9: 0 | BC9: 141.87094 | BD9: 7.8426578 | BE9: 0 | BF9: 6679.5922 | BG9: 116.73 | BH9: 45.813144 | BI9: 76.977266 | BJ9: 461.21392 | BK9: 837.66599 | BL9: 579.50016 | BM9: 78.139596 | BN9: 0 | BO9: 0 | BP9: 0 | BQ9: 0 | BR9: 123212.39 | BS9: 0 | BT9: 11569668 | BU9: 24843789 | BV9: 0 | BW9: 0 | BX9: 24843789 | BY9: 679137.32 | BZ9: 0 | CA9: 101999.53 | CB9: 2715506.7 | CC9: 28340432 | CD9: 39910100
B10: 02 | C10: A02 | D10: Products of forestry, logging and related services | E10: 27668.159 | F10: 127774.18 | G10: 41274.007 | H10: 2651.706 | I10: 1282.5933 | J10: 76286.548 | K10: 24027.529 | L10: 44426.51 | M10: 1939.9714 | N10: 334.59958 | O10: 11.82127 | P10: 637.05078 | Q10: 46.280893 | R10: 65649.464 | S10: 4432.307 | T10: 16.053352 | U10: 0 | V10: 4178.745 | W10: 0 | X10: 1269.5106 | Y10: 4.8619571 | Z10: 0 | AA10: 0 | AB10: 0 | AC10: 0 | AD10: 0 | AE10: 0 | AF10: 0 | AG10: 90144.994 | AH10: 6.8534177 | AI10: 3.452893 | AJ10: 0 | AK10: 0 | AL10: 0 | AM10: 1085790.7 | AN10: 1830.04 | AO10: 2524.8436 | AP10: 4158.1386 | AQ10: 0 | AR10: 0 | AS10: 0 | AT10: 0 | AU10: 368.64777 | AV10: 120943.99 | AW10: 437332.57 | AX10: 0 | AY10: 0 | AZ10: 0 | BA10: 0 | BB10: 0 | BC10: 0 | BD10: 0 | BE10: 0 | BF10: 0 | BG10: 0 | BH10: 0 | BI10: 0 | BJ10: 22814.597 | BK10: 9050.5221 | BL10: 26067.378 | BM10: 10852.452 | BN10: 825.95405 | BO10: 714.01766 | BP10: 518.36321 | BQ10: 0 | BR10: 539.55245 | BS10: 0 | BT10: 2238399 | BU10: 3105773.2 | BV10: 0 | BW10: 0 | BX10: 3105773.2 | BY10: 0 | BZ10: 0 | CA10: 0 | CB10: 13210.739 | CC10: 3118983.9 | CD10: 5357382.9
B11: 03 | C11: A03 | D11: Fish and other fishing products; aquaculture products; support services to fishing | E11: 0 | F11: 0 | G11: 0 | H11: 0 | I11: 0 | J11: 0 | K11: 0 | L11: 272340.19 | M11: 0 | N11: 0 | O11: 0 | P11: 0 | Q11: 0 | R11: 0 | S11: 0 | T11: 0 | U11: 0 | V11: 0 | W11: 0 | X11: 0 | Y11: 0 | Z11: 0 | AA11: 0 | AB11: 0 | AC11: 0 | AD11: 0 | AE11: 0 | AF11: 0 | AG11: 0 | AH11: 0 | AI11: 0 | AJ11: 0 | AK11: 0 | AL11: 0 | AM11: 0 | AN11: 0 | AO11: 0 | AP11: 0 | AQ11: 0 | AR11: 0 | AS11: 0 | AT11: 0 | AU11: 0 | AV11: 81818.674 | AW11: 76632.67 | AX11: 0 | AY11: 0 | AZ11: 0 | BA11: 0 | BB11: 0 | BC11: 0 | BD11: 0 | BE11: 0 | BF11: 0 | BG11: 0 | BH11: 0 | BI11: 0 | BJ11: 0 | BK11: 0 | BL11: 0 | BM11: 0 | BN11: 0 | BO11: 0 | BP11: 0 | BQ11: 0 | BR11: 0 | BS11: 0 | BT11: 430791.53 | BU11: 2538276.2 | BV11: 0 | BW11: 0 | BX11: 2538276.2 | BY11: 0 | BZ11: 0 | CA11: 0 | CB11: 4902.7086 | CC11: 2543178.9 | CD11: 2973970.5
B12: 04 | C12: B05 | D12: Coal and lignite | E12: 0 | F12: 0 | G12: 0 | H12: 0 | I12: 0 | J12: 0 | K12: 0 | L12: 0.40371183 | M12: 0.38877028 | N12: 0 | O12: 0 | P12: 0 | Q12: 0 | R12: 0 | S12: 0 | T12: 0 | U12: 0 | V12: 0 | W12: 0 | X12: 0 | Y12: 149527.91 | Z12: 7908.9222 | AA12: 3.3756121e-05 | AB12: 0 | AC12: 0.037199473 | AD12: 28.664227 | AE12: 0 | AF12: 0 | AG12: 0 | AH12: 0 | AI12: 0 | AJ12: 0 | AK12: 0 | AL12: 0 | AM12: 0 | AN12: 0 | AO12: 0 | AP12: 0 | AQ12: 208.19954 | AR12: 0 | AS12: 0 | AT12: 0 | AU12: 0 | AV12: 98.547095 | AW12: 0 | AX12: 0 | AY12: 0 | AZ12: 0 | BA12: 0 | BB12: 0 | BC12: 0 | BD12: 0 | BE12: 0 | BF12: 0 | BG12: 0 | BH12: 0 | BI12: 0 | BJ12: 0 | BK12: 0 | BL12: 0 | BM12: 0 | BN12: 0 | BO12: 0 | BP12: 0 | BQ12: 0 | BR12: 0 | BS12: 0 | BT12: 157773.08 | BU12: 548.90633 | BV12: 0 | BW12: 0 | BX12: 548.90633 | BY12: 0 | BZ12: 0 | CA12: 10052.241 | CB12: 14825.515 | CC12: 25426.663 | CD12: 183199.74
B13: 05 | C13: B06 | D13: Crude petroleum and natural gas | E13: 0 | F13: 0 | G13: 0 | H13: 0 | I13: 0 | J13: 0 | K13: 0 | L13: 0 | M13: 0 | N13: 0 | O13: 0 | P13: 0 | Q13: 0 | R13: 0 | S13: 0 | T13: 0 | U13: 84923.86 | V13: 0 | W13: 0 | X13: 0 | Y13: 31240.707 | Z13: 0 | AA13: 0 | AB13: 0 | AC13: 0 | AD13: 0 | AE13: 0 | AF13: 0 | AG13: 0 | AH13: 0 | AI13: 0 | AJ13: 369162.69 | AK13: 0 | AL13: 0 | AM13: 0 | AN13: 0 | AO13: 0 | AP13: 0 | AQ13: 0 | AR13: 0 | AS13: 0 | AT13: 0 | AU13: 0 | AV13: 0 | AW13: 0 | AX13: 0 | AY13: 0 | AZ13: 0 | BA13: 0 | BB13: 0 | BC13: 0 | BD13: 0 | BE13: 0 | BF13: 0 | BG13: 0 | BH13: 0 | BI13: 0 | BJ13: 0 | BK13: 0 | BL13: 0 | BM13: 0 | BN13: 0 | BO13: 0 | BP13: 0 | BQ13: 0 | BR13: 0 | BS13: 0 | BT13: 485327.26 | BU13: 0 | BV13: 0 | BW13: 0 | BX13: 0 | BY13: 0 | BZ13: 0 | CA13: -1874.0955 | CB13: 12605.122 | CC13: 10731.026 | CD13: 496058.28
B14: 06 | C14: B07 | D14: Metal ores | E14: 0 | F14: 0 | G14: 0 | H14: 0 | I14: 0 | J14: 0 | K14: 0 | L14: 0 | M14: 0 | N14: 0 | O14: 0 | P14: 0 | Q14: 0 | R14: 0 | S14: 0 | T14: 0 | U14: 0 | V14: 41569.327 | W14: 0 | X14: 0 | Y14: 0 | Z14: 1065722.3 | AA14: 676021.95 | AB14: 0 | AC14: 0 | AD14: 0 | AE14: 0 | AF14: 0 | AG14: 0 | AH14: 807764.36 | AI14: 0 | AJ14: 0 | AK14: 0 | AL14: 0 | AM14: 0 | AN14: 0 | AO14: 0 | AP14: 0 | AQ14: 0 | AR14: 0 | AS14: 0 | AT14: 0 | AU14: 0 | AV14: 0 | AW14: 0 | AX14: 0 | AY14: 0 | AZ14: 0 | BA14: 0 | BB14: 0 | BC14: 0 | BD14: 0 | BE14: 0 | BF14: 0 | BG14: 0 | BH14: 0 | BI14: 0 | BJ14: 0 | BK14: 0 | BL14: 0 | BM14: 0 | BN14: 0 | BO14: 0 | BP14: 0 | BQ14: 0 | BR14: 0 | BS14: 0 | BT14: 2591077.9 | BU14: 0 | BV14: 0 | BW14: 0 | BX14: 0 | BY14: 0 | BZ14: 228991.31 | CA14: 16722.957 | CB14: 5454453.7 | CC14: 5700168 | CD14: 8291245.9
B15: 07 | C15: B08-B09 | D15: Other mining and quarrying products | E15: 0 | F15: 0 | G15: 0 | H15: 0 | I15: 1904.6058 | J15: 48849.435 | K15: 14378.827 | L15: 32.445722 | M15: 46.18773 | N15: 0 | O15: 0 | P15: 0 | Q15: 74.878391 | R15: 0 | S15: 0 | T15: 0 | U15: 0 | V15: 2527.5706 | W15: 6.9232157 | X15: 1.457762 | Y15: 454576.2 | Z15: 63.549381 | AA15: 6.6709767 | AB15: 0 | AC15: 0 | AD15: 0 | AE15: 0 | AF15: 64.721302 | AG15: 4799.8675 | AH15: 124.22752 | AI15: 0 | AJ15: 0 | AK15: 2076.5434 | AL15: 0 | AM15: 1486195.5 | AN15: 0 | AO15: 0 | AP15: 0 | AQ15: 0 | AR15: 0 | AS15: 0 | AT15: 0 | AU15: 0 | AV15: 0 | AW15: 0 | AX15: 0 | AY15: 0 | AZ15: 0 | BA15: 0 | BB15: 0 | BC15: 0 | BD15: 0 | BE15: 0 | BF15: 0 | BG15: 0 | BH15: 0 | BI15: 0 | BJ15: 0 | BK15: 0 | BL15: 0 | BM15: 0 | BN15: 0 | BO15: 0 | BP15: 0 | BQ15: 0 | BR15: 0 | BS15: 0 | BT15: 2015729.6 | BU15: 0 | BV15: 0 | BW15: 0 | BX15: 0 | BY15: 0 | BZ15: 0 | CA15: 70827.392 | CB15: 345137.95 | CC15: 415965.35 | CD15: 2431695
B16: 08 | C16: C10 | D16: Manufacture of food products | E16: 248805.73 | F16: 0 | G16: 102706.27 | H16: 0 | I16: 0 | J16: 0 | K16: 0 | L16: 633128.08 | M16: 855552.82 | N16: 0 | O16: 1607.8388 | P16: 42238.407 | Q16: 36890.093 | R16: 0 | S16: 0 | T16: 0 | U16: 0 | V16: 89090.989 | W16: 1086.0137 | X16: 0 | Y16: 0 | Z16: 0 | AA16: 0 | AB16: 0 | AC16: 0 | AD16: 0 | AE16: 0 | AF16: 0 | AG16: 0 | AH16: 5917.0515 | AI16: 22428.351 | AJ16: 0 | AK16: 0 | AL16: 0 | AM16: 0 | AN16: 0 | AO16: 0 | AP16: 0 | AQ16: 0 | AR16: 0 | AS16: 0 | AT16: 0 | AU16: 0 | AV16: 694840.21 | AW16: 1000120.5 | AX16: 234.0449 | AY16: 0 | AZ16: 0 | BA16: 0 | BB16: 0 | BC16: 0 | BD16: 0 | BE16: 0 | BF16: 0 | BG16: 393.41659 | BH16: 0 | BI16: 0 | BJ16: 0 | BK16: 145581.47 | BL16: 108505.27 | BM16: 129368.44 | BN16: 13047.596 | BO16: 0 | BP16: 0 | BQ16: 0 | BR16: 0 | BS16: 0 | BT16: 4131542.6 | BU16: 11474562 | BV16: 0 | BW16: 0 | BX16: 11474562 | BY16: 0 | BZ16: 0 | CA16: -9117.8902 | CB16: 830310.93 | CC16: 12295755 | CD16: 16427298
B17: 09 | C17: C11 | D17: Manufacture of beverages | E17: 0 | F17: 0 | G17: 0 | H17: 0 | I17: 0 | J17: 0 | K17: 0 | L17: 0 | M17: 58839.803 | N17: 0 | O17: 0 | P17: 0 | Q17: 0 | R17: 0 | S17: 0 | T17: 0 | U17: 0 | V17: 0 | W17: 0 | X17: 0 | Y17: 0 | Z17: 0 | AA17: 0 | AB17: 0 | AC17: 0 | AD17: 0 | AE17: 0 | AF17: 0 | AG17: 0 | AH17: 0 | AI17: 0 | AJ17: 0 | AK17: 0 | AL17: 0 | AM17: 0 | AN17: 3697.9213 | AO17: 416.26887 | AP17: 685.71767 | AQ17: 2677.6891 | AR17: 4819.4971 | AS17: 307.98245 | AT17: 28902.989 | AU17: 179.86238 | AV17: 212644.59 | AW17: 281030.52 | AX17: 463.56246 | AY17: 0 | AZ17: 0 | BA17: 928.08225 | BB17: 265.89141 | BC17: 2164.9261 | BD17: 207.21704 | BE17: 528.36098 | BF17: 154.39651 | BG17: 2230.1014 | BH17: 674.84247 | BI17: 20207.632 | BJ17: 10270.657 | BK17: 16965.261 | BL17: 8565.9925 | BM17: 8628.7021 | BN17: 980.34463 | BO17: 1220.7702 | BP17: 212.39742 | BQ17: 0 | BR17: 540.75757 | BS17: 0 | BT17: 669412.74 | BU17: 5190014.6 | BV17: 0 | BW17: 0 | BX17: 5190014.6 | BY17: 0 | BZ17: 0 | CA17: -60577.712 | CB17: 74759.907 | CC17: 5204196.8 | CD17: 5873609.5
B18: 10 | C18: C12 | D18: Manufacture of tobacco products | E18: 0 | F18: 0 | G18: 0 | H18: 0 | I18: 0 | J18: 0 | K18: 0 | L18: 0 | M18: 0 | N18: 21023.537 | O18: 0 | P18: 0 | Q18: 0 | R18: 0 | S18: 0 | T18: 0 | U18: 0 | V18: 0 | W18: 0 | X18: 0 | Y18: 0 | Z18: 0 | AA18: 0 | AB18: 0 | AC18: 0 | AD18: 0 | AE18: 0 | AF18: 0 | AG18: 0 | AH18: 0 | AI18: 0 | AJ18: 0 | AK18: 0 | AL18: 0 | AM18: 0 | AN18: 0 | AO18: 0 | AP18: 0 | AQ18: 0 | AR18: 0 | AS18: 0 | AT18: 0 | AU18: 0 | AV18: 0 | AW18: 0 | AX18: 0 | AY18: 0 | AZ18: 0 | BA18: 0 | BB18: 0 | BC18: 0 | BD18: 0 | BE18: 0 | BF18: 0 | BG18: 0 | BH18: 0 | BI18: 0 | BJ18: 0 | BK18: 0 | BL18: 0 | BM18: 0 | BN18: 0 | BO18: 0 | BP18: 0 | BQ18: 0 | BR18: 0 | BS18: 0 | BT18: 21023.537 | BU18: 786767.76 | BV18: 0 | BW18: 0 | BX18: 786767.76 | BY18: 0 | BZ18: 0 | CA18: -40457.672 | CB18: 422061.36 | CC18: 1168371.5 | CD18: 1189395
B19: 11 | C19: C13 | D19: Manufacture of textiles | E19: 57689.164 | F19: 0 | G19: 52644.88 | H19: 0 | I19: 0 | J19: 0 | K19: 0 | L19: 28719.089 | M19: 246.43653 | N19: 0 | O19: 2806.1102 | P19: 590386.34 | Q19: 17964.375 | R19: 14850.909 | S19: 5112.6178 | T19: 3203.7503 | U19: 0 | V19: 0 | W19: 17471.608 | X19: 55341.065 | Y19: 0 | Z19: 0 | AA19: 0 | AB19: 0 | AC19: 0 | AD19: 0 | AE19: 10115.519 | AF19: 61234.535 | AG19: 31398.681 | AH19: 13795.849 | AI19: 15045.298 | AJ19: 0 | AK19: 1434.9952 | AL19: 0 | AM19: 0 | AN19: 0 | AO19: 0 | AP19: 0 | AQ19: 0 | AR19: 0 | AS19: 0 | AT19: 0 | AU19: 0 | AV19: 0 | AW19: 0 | AX19: 0 | AY19: 0 | AZ19: 0 | BA19: 0 | BB19: 0 | BC19: 0 | BD19: 0 | BE19: 0 | BF19: 0 | BG19: 0 | BH19: 0 | BI19: 0 | BJ19: 0 | BK19: 35998.481 | BL19: 180.56009 | BM19: 108247.53 | BN19: 1735.1323 | BO19: 387.06396 | BP19: 0 | BQ19: 27348.552 | BR19: 0 | BS19: 0 | BT19: 1153358.5 | BU19: 218854.41 | BV19: 0 | BW19: 0 | BX19: 218854.41 | BY19: 0 | BZ19: 0 | CA19: 10733.382 | CB19: 355183.74 | CC19: 584771.53 | CD19: 1738130.1
B20: 12 | C20: C14 | D20: Manufacture of wearing apparel | E20: 6964.1243 | F20: 76321.54 | G20: 3737.6987 | H20: 3013.3148 | I20: 1689.146 | J20: 0 | K20: 0 | L20: 20597.943 | M20: 0 | N20: 0 | O20: 671.75753 | P20: 16660.16 | Q20: 0 | R20: 0 | S20: 0 | T20: 119.16292 | U20: 0 | V20: 0 | W20: 0 | X20: 0 | Y20: 0 | Z20: 0 | AA20: 0 | AB20: 0 | AC20: 0 | AD20: 0 | AE20: 0 | AF20: 0 | AG20: 0 | AH20: 0 | AI20: 0 | AJ20: 0 | AK20: 0 | AL20: 0 | AM20: 68490.374 | AN20: 4780.7439 | AO20: 0 | AP20: 0 | AQ20: 20592.394 | AR20: 708.39814 | AS20: 146.54374 | AT20: 13118.83 | AU20: 1742.8748 | AV20: 234780.37 | AW20: 237.92869 | AX20: 47.307855 | AY20: 105.25717 | AZ20: 67.282607 | BA20: 3039.0801 | BB20: 129.81388 | BC20: 4322.1439 | BD20: 0 | BE20: 0 | BF20: 0 | BG20: 117.94203 | BH20: 0 | BI20: 0 | BJ20: 0 | BK20: 103956.49 | BL20: 2359.4021 | BM20: 39593.119 | BN20: 1820.7178 | BO20: 3075.5397 | BP20: 0 | BQ20: 0 | BR20: 5379.8069 | BS20: 0 | BT20: 638387.21 | BU20: 1656301.6 | BV20: 0 | BW20: 0 | BX20: 1656301.6 | BY20: 0 | BZ20: 0 | CA20: 16496.559 | CB20: 82869.123 | CC20: 1755667.3 | CD20: 2394054.5
... B75: 67 | C75: T97 | D75: Domestic services | E75: 0 | F75: 0 | G75: 0 | H75: 0 | I75: 0 | J75: 0 | K75: 0 | L75: 0 | M75: 0 | N75: 0 | O75: 0 | P75: 0 | Q75: 0 | R75: 0 | S75: 0 | T75: 0 | U75: 0 | V75: 0 | W75: 0 | X75: 0 | Y75: 0 | Z75: 0 | AA75: 0 | AB75: 0 | AC75: 0 | AD75: 0 | AE75: 0 | AF75: 0 | AG75: 0 | AH75: 0 | AI75: 0 | AJ75: 0 | AK75: 0 | AL75: 0 | AM75: 0 | AN75: 0 | AO75: 0 | AP75: 0 | AQ75: 0 | AR75: 0 | AS75: 0 | AT75: 0 | AU75: 0 | AV75: 0 | AW75: 0 | AX75: 0 | AY75: 0 | AZ75: 0 | BA75: 0 | BB75: 0 | BC75: 0 | BD75: 0 | BE75: 0 | BF75: 0 | BG75: 0 | BH75: 0 | BI75: 0 | BJ75: 0 | BK75: 0 | BL75: 0 | BM75: 0 | BN75: 0 | BO75: 0 | BP75: 0 | BQ75: 0 | BR75: 0 | BS75: 0 | BT75: 0 | BU75: 315779.91 | BV75: 0 | BW75: 0 | BX75: 315779.91 | BY75: 0 | BZ75: 0 | CA75: 0 | CB75: 0 | CC75: 315779.91 | CD75: 315779.91
B76: 68 | D76: Total | E76: 6920279.3 | F76: 603602.12 | G76: 337528.7 | H76: 37436.627 | I76: 118699.8 | J76: 1675352.4 | K76: 613327.61 | L76: 7630630.3 | M76: 2693915.5 | N76: 547803.52 | O76: 453887.63 | P76: 817723.43 | Q76: 233437.6 | R76: 211964.71 | S76: 175988.32 | T76: 362889.64 | U76: 157869.69 | V76: 1381461.9 | W76: 66279.53 | X76: 450473.53 | Y76: 1252622.8 | Z76: 1097911.1 | AA76: 730157.78 | AB76: 21075.399 | AC76: 244289.26 | AD76: 144236.9 | AE76: 85535.048 | AF76: 177491.3 | AG76: 1082768.7 | AH76: 862717.25 | AI76: 496639.59 | AJ76: 1482400.3 | AK76: 375269.11 | AL76: 23424.671 | AM76: 24355797 | AN76: 1227471.2 | AO76: 2184620.8 | AP76: 3191819 | AQ76: 7407075.5 | AR76: 313910.45 | AS76: 227547.05 | AT76: 1709191.8 | AU76: 107490.78 | AV76: 2257984.6 | AW76: 2735991.2 | AX76: 33781.083 | AY76: 73704.944 | AZ76: 61639.138 | BA76: 1259442.7 | BB76: 261859.65 | BC76: 934783.89 | BD76: 159919.05 | BE76: 361331.82 | BF76: 532763.89 | BG76: 412830.6 | BH76: 244900.68 | BI76: 775317.86 | BJ76: 1096144.3 | BK76: 3289837.3 | BL76: 1587362.4 | BM76: 1340782.1 | BN76: 250159.03 | BO76: 166977.64 | BP76: 185453.63 | BQ76: 204775.25 | BR76: 532220.57 | BS76: 0 | BT76: 93051978 | BU76: 81523891 | BV76: 226557.51 | BW76: 13229874 | BX76: 94980322 | BY76: 49173777 | BZ76: 228991.31 | CA76: 244393.7 | CB76: 16372110 | CC76: 1.609996e+08 | CD76: 2.5405157e+08
B77: 69 | D77: C.i.f./f.o.b. adjustments on imports | E77: 0 | F77: 0 | G77: 0 | H77: 0 | I77: 0 | J77: 0 | K77: 0 | L77: 0 | M77: 0 | N77: 0 | O77: 0 | P77: 0 | Q77: 0 | R77: 0 | S77: 0 | T77: 0 | U77: 0 | V77: 0 | W77: 0 | X77: 0 | Y77: 0 | Z77: 0 | AA77: 0 | AB77: 0 | AC77: 0 | AD77: 0 | AE77: 0 | AF77: 0 | AG77: 0 | AH77: 0 | AI77: 0 | AJ77: 0 | AK77: 0 | AL77: 0 | AM77: 0 | AN77: 0 | AO77: 0 | AP77: 0 | AQ77: 0 | AR77: 0 | AS77: 0 | AT77: 0 | AU77: 0 | AV77: 0 | AW77: 0 | AX77: 0 | AY77: 0 | AZ77: 0 | BA77: 0 | BB77: 0 | BC77: 0 | BD77: 0 | BE77: 0 | BF77: 0 | BG77: 0 | BH77: 0 | BI77: 0 | BJ77: 0 | BK77: 0 | BL77: 0 | BM77: 0 | BN77: 0 | BO77: 0 | BP77: 0 | BQ77: 0 | BR77: 0 | BS77: 0 | BT77: 0 | BU77: 0 | BV77: 0 | BW77: 0 | BX77: 0 | BY77: 0 | BZ77: 0 | CA77: 0 | CB77: 0 | CC77: 0 | CD77: 0
B78: 70 | D78: Direct purchases abroad by residents | E78: 0 | F78: 0 | G78: 0 | H78: 0 | I78: 0 | J78: 0 | K78: 0 | L78: 0 | M78: 0 | N78: 0 | O78: 0 | P78: 0 | Q78: 0 | R78: 0 | S78: 0 | T78: 0 | U78: 0 | V78: 0 | W78: 0 | X78: 0 | Y78: 0 | Z78: 0 | AA78: 0 | AB78: 0 | AC78: 0 | AD78: 0 | AE78: 0 | AF78: 0 | AG78: 0 | AH78: 0 | AI78: 0 | AJ78: 0 | AK78: 0 | AL78: 0 | AM78: 0 | AN78: 0 | AO78: 0 | AP78: 0 | AQ78: 0 | AR78: 0 | AS78: 0 | AT78: 0 | AU78: 0 | AV78: 0 | AW78: 0 | AX78: 0 | AY78: 0 | AZ78: 0 | BA78: 0 | BB78: 0 | BC78: 0 | BD78: 0 | BE78: 0 | BF78: 0 | BG78: 0 | BH78: 0 | BI78: 0 | BJ78: 0 | BK78: 0 | BL78: 0 | BM78: 0 | BN78: 0 | BO78: 0 | BP78: 0 | BQ78: 0 | BR78: 0 | BS78: 0 | BT78: 0 | BU78: 1392414.2 | BV78: 0 | BW78: 0 | BX78: 1392414.2 | BY78: 0 | BZ78: 0 | CA78: 0 | CB78: 0 | CC78: 1392414.2 | CD78: 1392414.2
B79: 71 | D79: Direct purchases in domestic markets by non-residents | E79: 0 | F79: 0 | G79: 0 | H79: 0 | I79: 0 | J79: 0 | K79: 0 | L79: 0 | M79: 0 | N79: 0 | O79: 0 | P79: 0 | Q79: 0 | R79: 0 | S79: 0 | T79: 0 | U79: 0 | V79: 0 | W79: 0 | X79: 0 | Y79: 0 | Z79: 0 | AA79: 0 | AB79: 0 | AC79: 0 | AD79: 0 | AE79: 0 | AF79: 0 | AG79: 0 | AH79: 0 | AI79: 0 | AJ79: 0 | AK79: 0 | AL79: 0 | AM79: 0 | AN79: 0 | AO79: 0 | AP79: 0 | AQ79: 0 | AR79: 0 | AS79: 0 | AT79: 0 | AU79: 0 | AV79: 0 | AW79: 0 | AX79: 0 | AY79: 0 | AZ79: 0 | BA79: 0 | BB79: 0 | BC79: 0 | BD79: 0 | BE79: 0 | BF79: 0 | BG79: 0 | BH79: 0 | BI79: 0 | BJ79: 0 | BK79: 0 | BL79: 0 | BM79: 0 | BN79: 0 | BO79: 0 | BP79: 0 | BQ79: 0 | BR79: 0 | BS79: 0 | BT79: 0 | BU79: -5660573.5 | BV79: 0 | BW79: 0 | BX79: -5660573.5 | BY79: 0 | BZ79: 0 | CA79: 0 | CB79: 5660573.5 | CC79: 0 | CD79: 0
B80: 72 | D80: Total intermediate consumption/final consumption at basic prices | E80: 6920279.3 | F80: 603602.12 | G80: 337528.7 | H80: 37436.627 | I80: 118699.8 | J80: 1675352.4 | K80: 613327.61 | L80: 7630630.3 | M80: 2693915.5 | N80: 547803.52 | O80: 453887.63 | P80: 817723.43 | Q80: 233437.6 | R80: 211964.71 | S80: 175988.32 | T80: 362889.64 | U80: 157869.69 | V80: 1381461.9 | W80: 66279.53 | X80: 450473.53 | Y80: 1252622.8 | Z80: 1097911.1 | AA80: 730157.78 | AB80: 21075.399 | AC80: 244289.26 | AD80: 144236.9 | AE80: 85535.048 | AF80: 177491.3 | AG80: 1082768.7 | AH80: 862717.25 | AI80: 496639.59 | AJ80: 1482400.3 | AK80: 375269.11 | AL80: 23424.671 | AM80: 24355797 | AN80: 1227471.2 | AO80: 2184620.8 | AP80: 3191819 | AQ80: 7407075.5 | AR80: 313910.45 | AS80: 227547.05 | AT80: 1709191.8 | AU80: 107490.78 | AV80: 2257984.6 | AW80: 2735991.2 | AX80: 33781.083 | AY80: 73704.944 | AZ80: 61639.138 | BA80: 1259442.7 | BB80: 261859.65 | BC80: 934783.89 | BD80: 159919.05 | BE80: 361331.82 | BF80: 532763.89 | BG80: 412830.6 | BH80: 244900.68 | BI80: 775317.86 | BJ80: 1096144.3 | BK80: 3289837.3 | BL80: 1587362.4 | BM80: 1340782.1 | BN80: 250159.03 | BO80: 166977.64 | BP80: 185453.63 | BQ80: 204775.25 | BR80: 532220.57 | BS80: 0 | BT80: 93051978 | BU80: 77255732 | BV80: 226557.51 | BW80: 13229874 | BX80: 90712163 | BY80: 49173777 | BZ80: 228991.31 | CA80: 244393.7 | CB80: 22032684 | CC80: 1.6239201e+08 | CD80: 2.5544399e+08
B81: 73 | D81: Compensation of employees | E81: 6689109.3 | F81: 1109722.4 | G81: 530764.77 | H81: 19118.489 | I81: 40476.045 | J81: 657989.14 | K81: 198868.93 | L81: 715533.2 | M81: 273085.96 | N81: 97261.925 | O81: 86673.6 | P81: 342113.52 | Q81: 37986.301 | R81: 55489.977 | S81: 16690.311 | T81: 66117.041 | U81: 5731.1722 | V81: 210935.46 | W81: 14419.92 | X81: 84295.194 | Y81: 233114.96 | Z81: 113011.62 | AA81: 70918.349 | AB81: 3300.1511 | AC81: 27788.551 | AD81: 43418.863 | AE81: 26774.455 | AF81: 20295.994 | AG81: 271442.51 | AH81: 132235.96 | AI81: 261328.95 | AJ81: 227409.72 | AK81: 191520.64 | AL81: 8564.0379 | AM81: 4303802.8 | AN81: 188826.37 | AO81: 805411.58 | AP81: 1508194.7 | AQ81: 2397659 | AR81: 39757.894 | AS81: 50293.607 | AT81: 268969.55 | AU81: 18546.269 | AV81: 232405.83 | AW81: 254092.08 | AX81: 8156.515 | AY81: 15260.014 | AZ81: 31037.432 | BA81: 209940.41 | BB81: 15619.327 | BC81: 1140022.1 | BD81: 142451.12 | BE81: 345924.61 | BF81: 457151.82 | BG81: 140290.66 | BH81: 20737.005 | BI81: 131295.28 | BJ81: 214063.11 | BK81: 4383354.1 | BL81: 2527097.9 | BM81: 1263957.9 | BN81: 68776.435 | BO81: 82429.804 | BP81: 97901.815 | BQ81: 187405.41 | BR81: 260536.39 | BS81: 315779.91 | BT81: 35010656 | BU81: 0 | BV81: 0 | BW81: 0 | BX81: 0 | BY81: 0 | BZ81: 0 | CA81: 0 | CB81: 0 | CC81: 0 | CD81: 0
B82: 74 | D82: Other taxes on production | E82: 1468.9562 | F82: 3686.6405 | G82: 4256.421 | H82: 7032.2095 | I82: 3979.903 | J82: 8839.6708 | K82: 9084.2891 | L82: 85132.133 | M82: 19556.556 | N82: 1956.7666 | O82: 3213.2918 | P82: 8648.7086 | Q82: 4482.1123 | R82: 15854.02 | S82: 4054.6887 | T82: 4354.2598 | U82: 3868.8991 | V82: 20616.393 | W82: 721.61466 | X82: 629.46597 | Y82: 3354.9201 | Z82: 4456.3498 | AA82: 5234.2628 | AB82: 213.01509 | AC82: 1191.767 | AD82: 838.94002 | AE82: 996.72455 | AF82: 1620.0515 | AG82: 22738.588 | AH82: 2495.5565 | AI82: 270.50828 | AJ82: 11848.316 | AK82: 3198.6499 | AL82: 318.80635 | AM82: 7278.5312 | AN82: 737.40094 | AO82: 1929.2439 | AP82: 4236.1286 | AQ82: 88028.969 | AR82: 3855.4486 | AS82: 3101.0182 | AT82: 11618.717 | AU82: 461.18627 | AV82: 4225.8713 | AW82: 2667.4454 | AX82: 2608.6874 | AY82: 672.4916 | AZ82: 723.42315 | BA82: 3242.9856 | BB82: 966.56086 | BC82: 19983.735 | BD82: 13607.021 | BE82: 588.22628 | BF82: 8250.2423 | BG82: 4753.1493 | BH82: 1075.8867 | BI82: 596.38287 | BJ82: 20621.292 | BK82: 53976.3 | BL82: 22629.003 | BM82: 19458.066 | BN82: 3301.6276 | BO82: 1750.2225 | BP82: 463.10022 | BQ82: 2047.3363 | BR82: 6222.4171 | BS82: 0 | BT82: 585891.57 | BU82: 0 | BV82: 0 | BW82: 0 | BX82: 0 | BY82: 0 | BZ82: 0 | CA82: 0 | CB82: 0 | CC82: 0 | CD82: 0
B83: 75 | D83: Other subsidies on production | E83: 0 | F83: 0 | G83: 0 | H83: 0 | I83: 0 | J83: 0 | K83: 0 | L83: 0 | M83: 0 | N83: 0 | O83: 0 | P83: 0 | Q83: 0 | R83: 0 | S83: 0 | T83: 0 | U83: 0 | V83: 0 | W83: 0 | X83: 0 | Y83: 0 | Z83: 0 | AA83: 0 | AB83: 0 | AC83: 0 | AD83: 0 | AE83: 0 | AF83: 0 | AG83: 0 | AH83: 0 | AI83: 0 | AJ83: -1020350.4 | AK83: 0 | AL83: 0 | AM83: 0 | AN83: 0 | AO83: 0 | AP83: 0 | AQ83: -23123.325 | AR83: -22874.221 | AS83: -3886.68 | AT83: 0 | AU83: 0 | AV83: 0 | AW83: 0 | AX83: 0 | AY83: 0 | AZ83: 0 | BA83: -16081.325 | BB83: 0 | BC83: -16276.94 | BD83: 0 | BE83: 0 | BF83: 0 | BG83: 0 | BH83: 0 | BI83: 0 | BJ83: 0 | BK83: 0 | BL83: 0 | BM83: -42203.624 | BN83: 0 | BO83: 0 | BP83: 0 | BQ83: 0 | BR83: 0 | BS83: 0 | BT83: -1144796.5 | BU83: 0 | BV83: 0 | BW83: 0 | BX83: 0 | BY83: 0 | BZ83: 0 | CA83: 0 | CB83: 0 | CC83: 0 | CD83: 0
B84: 76 | D84: Consumption of fixed capital | E84: 282277.64 | F84: 167449.97 | G84: 87450.997 | H84: 28048.329 | I84: 106548.03 | J84: 711568.93 | K84: 451720.25 | L84: 130264.11 | M84: 142809.75 | N84: 28529.152 | O84: 53207.197 | P84: 75875.765 | Q84: 16725.647 | R84: 28160.511 | S84: 3476.653 | T84: 21297.07 | U84: 494.46516 | V84: 74497.522 | W84: 11072.126 | X84: 15324.862 | Y84: 24488.805 | Z84: 25481.919 | AA84: 3521.955 | AB84: 678.1867 | AC84: 1558.1068 | AD84: 10274.914 | AE84: 1910.7403 | AF84: 2296.3975 | AG84: 79474.043 | AH84: 34364.047 | AI84: 13849.287 | AJ84: 11385.554 | AK84: 40335.794 | AL84: 0 | AM84: 1762359.7 | AN84: 19149.568 | AO84: 151829.73 | AP84: 125923.36 | AQ84: 1273167.5 | AR84: 6647.7529 | AS84: 17342.145 | AT84: 115948.88 | AU84: 2398.9533 | AV84: 2298.4372 | AW84: 50013.258 | AX84: 4771.9706 | AY84: 7449.7325 | AZ84: 14175.346 | BA84: 224270.03 | BB84: 8195.683 | BC84: 421300.97 | BD84: 80396.867 | BE84: 49818.672 | BF84: 21172.148 | BG84: 67079.299 | BH84: 22254.597 | BI84: 1684.9964 | BJ84: 93251.837 | BK84: 1749572.9 | BL84: 39442.45 | BM84: 223314.77 | BN84: 2175.9146 | BO84: 2139.4338 | BP84: 22328.651 | BQ84: 19670.571 | BR84: 27826.742 | BS84: 0 | BT84: 9315791.6 | BU84: 0 | BV84: 0 | BW84: 0 | BX84: 0 | BY84: 0 | BZ84: 0 | CA84: 0 | CB84: 0 | CC84: 0 | CD84: 0
B85: 77 | D85: Operating surplus, net | E85: 20990936 | F85: 2699230.8 | G85: 1965394.9 | H85: 65790.187 | I85: 172550.15 | J85: 4087318.9 | K85: 814037.66 | L85: 2316537.2 | M85: 463289.66 | N85: 77962.047 | O85: 58561.063 | P85: 409486.28 | Q85: 37595.339 | R85: 50734.389 | S85: 43580.546 | T85: 120108.86 | U85: 28647.349 | V85: 441651.88 | W85: 18280.228 | X85: 198998.47 | Y85: 424793.54 | Z85: 122568.42 | AA85: 87009.999 | AB85: 3315.1308 | AC85: 34902.408 | AD85: 40633.277 | AE85: 22040.485 | AF85: 79975.565 | AG85: 302872.59 | AH85: 110856.99 | AI85: 403143.2 | AJ85: 1311437.8 | AK85: 417660.37 | AL85: 19057.626 | AM85: 12819207 | AN85: 947288.82 | AO85: 3362076 | AP85: 5146224.4 | AQ85: 4745226.7 | AR85: 425343.81 | AS85: 254630.66 | AT85: 793794.87 | AU85: 102666.87 | AV85: 1365112.6 | AW85: 1697665.6 | AX85: 47766.099 | AY85: 108647.39 | AZ85: 106938.99 | BA85: 1274864.3 | BB85: 97237.267 | BC85: 1901590.8 | BD85: 233407.44 | BE85: 742367.66 | BF85: 3475600.9 | BG85: 364051.57 | BH85: 371074.87 | BI85: 1031068.3 | BJ85: 1325785.7 | BK85: -0.00070329662 | BL85: 1010105.4 | BM85: 564838.84 | BN85: 306365.49 | BO85: 411716.89 | BP85: 195924.3 | BQ85: 388016.52 | BR85: 542677.84 | BS85: 0 | BT85: 84600243 | BU85: 0 | BV85: 0 | BW85: 0 | BX85: 0 | BY85: 0 | BZ85: 0 | CA85: 0 | CB85: 0 | CC85: 0 | CD85: 0
B86: 78 | D86: Value added at basic prices | E86: 27963792 | F86: 3980089.9 | G86: 2587867.1 | H86: 119989.21 | I86: 323554.13 | J86: 5465716.6 | K86: 1473711.1 | L86: 3247466.7 | M86: 898741.92 | N86: 205709.89 | O86: 201655.15 | P86: 836124.28 | Q86: 96789.399 | R86: 150238.9 | S86: 67802.199 | T86: 211877.23 | U86: 38741.885 | V86: 747701.25 | W86: 44493.889 | X86: 299247.99 | Y86: 685752.23 | Z86: 265518.31 | AA86: 166684.57 | AB86: 7506.4837 | AC86: 65440.832 | AD86: 95165.993 | AE86: 51722.405 | AF86: 104188.01 | AG86: 676527.73 | AH86: 279952.55 | AI86: 678591.94 | AJ86: 541730.99 | AK86: 652715.45 | AL86: 27940.47 | AM86: 18892648 | AN86: 1156002.2 | AO86: 4321246.6 | AP86: 6784578.6 | AQ86: 8480958.9 | AR86: 452730.69 | AS86: 321480.75 | AT86: 1190332 | AU86: 124073.28 | AV86: 1604042.7 | AW86: 2004438.4 | AX86: 63303.272 | AY86: 132029.63 | AZ86: 152875.19 | BA86: 1696236.4 | BB86: 122018.84 | BC86: 3466620.6 | BD86: 469862.46 | BE86: 1138699.2 | BF86: 3962175.1 | BG86: 576174.68 | BH86: 415142.36 | BI86: 1164645 | BJ86: 1653722 | BK86: 6186903.3 | BL86: 3599274.7 | BM86: 2029366 | BN86: 380619.47 | BO86: 498036.35 | BP86: 316617.87 | BQ86: 597139.84 | BR86: 837263.39 | BS86: 315779.91 | BT86: 1.2836779e+08 | BU86: 0 | BV86: 0 | BW86: 0 | BX86: 0 | BY86: 0 | BZ86: 0 | CA86: 0 | CB86: 0 | CC86: 0 | CD86: 0
B87: 79 | D87: Output at basic prices | E87: 34884071 | F87: 4583692 | G87: 2925395.8 | H87: 157425.84 | I87: 442253.94 | J87: 7141069 | K87: 2087038.7 | L87: 10878097 | M87: 3592657.5 | N87: 753513.41 | O87: 655542.78 | P87: 1653847.7 | Q87: 330227 | R87: 362203.61 | S87: 243790.52 | T87: 574766.87 | U87: 196611.58 | V87: 2129163.2 | W87: 110773.42 | X87: 749721.52 | Y87: 1938375 | Z87: 1363429.4 | AA87: 896842.35 | AB87: 28581.883 | AC87: 309730.09 | AD87: 239402.9 | AE87: 137257.45 | AF87: 281679.31 | AG87: 1759296.5 | AH87: 1142669.8 | AI87: 1175231.5 | AJ87: 2024131.3 | AK87: 1027984.6 | AL87: 51365.141 | AM87: 43248444 | AN87: 2383473.4 | AO87: 6505867.4 | AP87: 9976397.6 | AQ87: 15888034 | AR87: 766641.13 | AS87: 549027.8 | AT87: 2899523.8 | AU87: 231564.06 | AV87: 3862027.4 | AW87: 4740429.6 | AX87: 97084.355 | AY87: 205734.57 | AZ87: 214514.33 | BA87: 2955679.1 | BB87: 383878.49 | BC87: 4401404.5 | BD87: 629781.51 | BE87: 1500031 | BF87: 4494939 | BG87: 989005.28 | BH87: 660043.04 | BI87: 1939962.9 | BJ87: 2749866.3 | BK87: 9476740.6 | BL87: 5186637.1 | BM87: 3370148.1 | BN87: 630778.5 | BO87: 665013.99 | BP87: 502071.5 | BQ87: 801915.09 | BR87: 1369484 | BS87: 315779.91 | BT87: 2.2141976e+08 | BU87: 0 | BV87: 0 | BW87: 0 | BX87: 0 | BY87: 0 | BZ87: 0 | CA87: 0 | CB87: 0 | CC87: 0 | CD87: 0

Sheet trademarg
A1: MENU
C3: Table 3: Trade Margins, 2019
CD4: (Million Tsh)
E5: INPUT OF INDUSTRIES (ISIC REV.4) | BT5: Total intermediate consumption | BU5: FINAL USES | CD5: Total uses at basic prices
D6: INDUSTRIES (ISIC Rev.4) | E6: Crop and animal production, hunting and related service activities | F6: Forestry and logging | G6: Fishing and aquaculture | H6: Mining of coal and lignite | I6: Extraction of crude petroleum and natural gas | J6: Mining of metal ores | K6: Other mining and quarrying | L6: Manufacture of food products | M6: Manufacture of beverages | N6: Manufacture of tobacco products | O6: Manufacture of textiles | P6: Manufacture of wearing apparel | Q6: Manufacture of leather and related products | R6: Manufacture of wood and of products of wood and cork | S6: Manufacture of paper and paper products | T6: Printing and reproduction of recorded media | U6: Manufacture of coke and refined petroleum products | V6: Manufacture of chemicals and chemical products | W6: Manufacture of basic pharmaceutical products | X6: Manufacture of rubber and plastics products | Y6: Manufacture of other non-metallic mineral products | Z6: Manufacture of basic metals | AA6: Manufacture of fabricated metal products, except mach.&equip. | AB6: Manufacture of computer electronic and optical products | AC6: Manufacture of electrical equipment | AD6: Manufacture of machinery and equipment n.e.c. | AE6: Manufacture of motor vehicles, trailers and semi-trailers | AF6: Manufacture of other transport equipment | AG6: Manufacture of furniture | AH6: Other manufacturing n.e.c. | AI6: Repair and installation services of machinery and equipment | AJ6: Electricity, gas, steam and air conditioning | AK6: Natural water; water treatment and supply services | AL6: Sewerage services; waste collection, treatment and disposal services | AM6: Construction | AN6: Wholesale and retail trade, and repair services of motor vehicles and motorcycles | AO6: Wholesale trade services, except of motor vehicles and motorcycles | AP6: Retail trade services, except of motor vehicles and motorcycles | AQ6: Land transport and transport via pipelines | AR6: Water transport | AS6: Air transport | AT6: Warehousing and support activities for transportation | AU6: Postal and courier activities | AV6: Accommodation services | AW6: Food and beverage serving services | AX6: Publishing services | AY6: Motion picture, video and television programme production services, sound recording and music publishing | AZ6: Programming and broadcasting services | BA6: Telecommunications | BB6: Computer programming, data proccessing and information services | BC6: Financial services (including FISIM), except insurance and pension funding | BD6: Insurance, reinsurance and pension funding services, except compulsory social security | BE6: Services auxiliary to financial services and insurance services | BF6: Real estate services and imputed rents of owner-occupied dwellings | BG6: Professional, scientific, technical and veterinary services | BH6: Rental, leasing and employment services | BI6: Travel agency, tour operator and other reservation services and related services | BJ6: Other administartive and support services | BK6: Public administration and defence services; compulsory social security services | BL6: Education services | BM6: Human health services | BN6: Social work services | BO6: Arts, entertainment and recreation services | BP6: Services furnished by membership organisations | BQ6: Repair of computers and personal and household goods | BR6: Other personal services | BS6: Domestic services | BU6: Final consumption expenditure by households | BV6: Final consumption expenditure by non-profit organisations serving households (NPISH) | BW6: Final consumption expenditure by government | BX6: Final consumption expenditure | BY6: Gross Fixed Capital Formation | BZ6: Changes in valuables | CA6: Changes in inventories | CB6: Exports | CC6: Final uses
C7: Code | D7: PRODUCTS (CPA Rev.2) | E7: A01 | F7: A02 | G7: A03 | H7: B05 | I7: B06 | J7: B07 | K7: B08-B09 | L7: C10 | M7: C11 | N7: C12 | O7: C13 | P7: C14 | Q7: C15 | R7: C16 | S7: C17 | T7: C18 | U7: C19 | V7: C20 | W7: C21 | X7: C22 | Y7: C23 | Z7: C24 | AA7: C25 | AB7: C26 | AC7: C27 | AD7: C28 | AE7: C29 | AF7: C30 | AG7: C31 | AH7: C32 | AI7: C33 | AJ7: D35 | AK7: E36 | AL7: E37-E39 | AM7: F41-43 | AN7: G45 | AO7: G46 | AP7: G47 | AQ7: H49 | AR7: H50 | AS7: H51 | AT7: H52 | AU7: H53 | AV7: I55 | AW7: I56 | AX7: J58 | AY7: J59 | AZ7: J60 | BA7: J61 | BB7: J62 | BC7: K64 | BD7: K65 | BE7: K66 | BF7: L68 | BG7: M69-M75 | BH7: N77-N78 | BI7: N79 | BJ7: N80-N82 | BK7: O84 | BL7: P85 | BM7: Q86 | BN7: Q87-Q88 | BO7: R90-R93 | BP7: S94 | BQ7: S95 | BR7: S96 | BS7: T97 | BU7: Hhcons | BV7: NPIHS | BW7: Govcons | BY7: GFCF | BZ7: Chval | CA7: Chinv | CB7: Exp
